BEGIN:VCALENDAR
VERSION:2.0
PRODID:-//Sarasota Audubon | Sarasota, Florida - ECPv6.15.20//NONSGML v1.0//EN
CALSCALE:GREGORIAN
METHOD:PUBLISH
X-ORIGINAL-URL:https://www.sarasotaaudubon.org
X-WR-CALDESC:Events for Sarasota Audubon | Sarasota, Florida
REFRESH-INTERVAL;VALUE=DURATION:PT1H
X-Robots-Tag:noindex
X-PUBLISHED-TTL:PT1H
BEGIN:VTIMEZONE
TZID:America/New_York
BEGIN:DAYLIGHT
TZOFFSETFROM:-0500
TZOFFSETTO:-0400
TZNAME:EDT
DTSTART:20250309T070000
END:DAYLIGHT
BEGIN:STANDARD
TZOFFSETFROM:-0400
TZOFFSETTO:-0500
TZNAME:EST
DTSTART:20251102T060000
END:STANDARD
BEGIN:DAYLIGHT
TZOFFSETFROM:-0500
TZOFFSETTO:-0400
TZNAME:EDT
DTSTART:20260308T070000
END:DAYLIGHT
BEGIN:STANDARD
TZOFFSETFROM:-0400
TZOFFSETTO:-0500
TZNAME:EST
DTSTART:20261101T060000
END:STANDARD
BEGIN:DAYLIGHT
TZOFFSETFROM:-0500
TZOFFSETTO:-0400
TZNAME:EDT
DTSTART:20270314T070000
END:DAYLIGHT
BEGIN:STANDARD
TZOFFSETFROM:-0400
TZOFFSETTO:-0500
TZNAME:EST
DTSTART:20271107T060000
END:STANDARD
END:VTIMEZONE
BEGIN:VEVENT
DTSTART;TZID=America/New_York:20260314T083000
DTEND;TZID=America/New_York:20260314T100000
DTSTAMP:20260420T165421
CREATED:20260107T204052Z
LAST-MODIFIED:20260203T152044Z
UID:10002848-1773477000-1773482400@www.sarasotaaudubon.org
SUMMARY:Beginning Bird Photography
DESCRIPTION:Beginning Bird Photograpy with Forrest Rowland\n\n\nSaturday\, Mar. 14\n9:00 AM – 10:30 PM\n\nA Beginner’s Guide to Bird Photography\, 1.5 hours – SAS Nature Center\, garden\, and Celery Fields boardwalk. This comprehensive course covers essential bird photography skills.\n\nRegistration Required
URL:https://www.sarasotaaudubon.org/events/beginning-bird-photography/
LOCATION:Sarasota Audubon Nature Center\, 999 Center Road\, Sarasota\, FL\, 34240
CATEGORIES:Class Requiring Registration & Fee,Classes at the Nature Center
ORGANIZER;CN="Forrest Rowland":MAILTO:rowbird2005@gmail.com
GEO:27.3253554;-82.4319132
X-APPLE-STRUCTURED-LOCATION;VALUE=URI;X-ADDRESS=Sarasota Audubon Nature Center 999 Center Road Sarasota FL 34240;X-APPLE-RADIUS=500;X-TITLE=999 Center Road:geo:-82.4319132,27.3253554
END:VEVENT
BEGIN:VEVENT
DTSTART;TZID=America/New_York:20260321T090000
DTEND;TZID=America/New_York:20260321T103000
DTSTAMP:20260420T165421
CREATED:20260130T212535Z
LAST-MODIFIED:20260203T151430Z
UID:10003038-1774083600-1774089000@www.sarasotaaudubon.org
SUMMARY:Butterflies of the Sarasota Audubon Nature Center
DESCRIPTION:A Beginner’s Guide to Butterflies\, 1.5 hours – SAS Nature Center and Native Gardens. \nThis comprehensive course covers \n\nSAS Plants-Nectar and Host\nButterflies they attract\nLife Stages of Butterflies\nMating and Reproduction\nAnnual cycle and survival\nAttracting butterflies to your garden\nTips for Breeding with a cage/hutch\nCitizen Science Contributions\n\nLearn how native plants host these remarkable creatures. \nCost $10 members\, $20 non-members.   Registration Required
URL:https://www.sarasotaaudubon.org/events/butterflies-of-the-sarasota-audubon-nature-center/
LOCATION:Sarasota Audubon Nature Center\, 999 Center Road\, Sarasota\, FL\, 34240
CATEGORIES:Class Requiring Registration & Fee,Classes at the Nature Center,Sarasota Audubon Nature Center
ORGANIZER;CN="Naomi Deutsch":MAILTO:naomideutsch@gmail.com
GEO:27.3253554;-82.4319132
X-APPLE-STRUCTURED-LOCATION;VALUE=URI;X-ADDRESS=Sarasota Audubon Nature Center 999 Center Road Sarasota FL 34240;X-APPLE-RADIUS=500;X-TITLE=999 Center Road:geo:-82.4319132,27.3253554
END:VEVENT
END:VCALENDAR