BEGIN:VCALENDAR
VERSION:2.0
PRODID:-//Sarasota Audubon | Sarasota, Florida - ECPv6.15.20//NONSGML v1.0//EN
CALSCALE:GREGORIAN
METHOD:PUBLISH
X-ORIGINAL-URL:https://www.sarasotaaudubon.org
X-WR-CALDESC:Events for Sarasota Audubon | Sarasota, Florida
REFRESH-INTERVAL;VALUE=DURATION:PT1H
X-Robots-Tag:noindex
X-PUBLISHED-TTL:PT1H
BEGIN:VTIMEZONE
TZID:America/New_York
BEGIN:DAYLIGHT
TZOFFSETFROM:-0500
TZOFFSETTO:-0400
TZNAME:EDT
DTSTART:20250309T070000
END:DAYLIGHT
BEGIN:STANDARD
TZOFFSETFROM:-0400
TZOFFSETTO:-0500
TZNAME:EST
DTSTART:20251102T060000
END:STANDARD
BEGIN:DAYLIGHT
TZOFFSETFROM:-0500
TZOFFSETTO:-0400
TZNAME:EDT
DTSTART:20260308T070000
END:DAYLIGHT
BEGIN:STANDARD
TZOFFSETFROM:-0400
TZOFFSETTO:-0500
TZNAME:EST
DTSTART:20261101T060000
END:STANDARD
BEGIN:DAYLIGHT
TZOFFSETFROM:-0500
TZOFFSETTO:-0400
TZNAME:EDT
DTSTART:20270314T070000
END:DAYLIGHT
BEGIN:STANDARD
TZOFFSETFROM:-0400
TZOFFSETTO:-0500
TZNAME:EST
DTSTART:20271107T060000
END:STANDARD
END:VTIMEZONE
BEGIN:VEVENT
DTSTART;TZID=America/New_York:20260204T080000
DTEND;TZID=America/New_York:20260204T103000
DTSTAMP:20260425T232658
CREATED:20250715T163156Z
LAST-MODIFIED:20260120T225213Z
UID:10002165-1770192000-1770201000@www.sarasotaaudubon.org
SUMMARY:North Lido Beach Preserve with Stu Wilson
DESCRIPTION:Look at an eagle nest on the backbay and shorebirds on the beach. 2 miles of walking on sand paths and beach sand\, mainly sun. No restrooms.
URL:https://www.sarasotaaudubon.org/events/north-lido-beach-preserve-with-stu-wilson-2/
LOCATION:North Lido Beach\, 201 John Ringling Blvd\, Sarasota\, FL\, 34236\, United States
CATEGORIES:Guided Walks
ORGANIZER;CN="Stu Wilson":MAILTO:stu299@gmail.com
GEO:27.3163317;-82.5807346
X-APPLE-STRUCTURED-LOCATION;VALUE=URI;X-ADDRESS=North Lido Beach 201 John Ringling Blvd Sarasota FL 34236 United States;X-APPLE-RADIUS=500;X-TITLE=201 John Ringling Blvd:geo:-82.5807346,27.3163317
END:VEVENT
END:VCALENDAR