BEGIN:VCALENDAR
VERSION:2.0
PRODID:-//Sarasota Audubon | Sarasota, Florida - ECPv6.15.20//NONSGML v1.0//EN
CALSCALE:GREGORIAN
METHOD:PUBLISH
X-WR-CALNAME:Sarasota Audubon | Sarasota, Florida
X-ORIGINAL-URL:https://www.sarasotaaudubon.org
X-WR-CALDESC:Events for Sarasota Audubon | Sarasota, Florida
REFRESH-INTERVAL;VALUE=DURATION:PT1H
X-Robots-Tag:noindex
X-PUBLISHED-TTL:PT1H
BEGIN:VTIMEZONE
TZID:America/New_York
BEGIN:DAYLIGHT
TZOFFSETFROM:-0500
TZOFFSETTO:-0400
TZNAME:EDT
DTSTART:20230312T070000
END:DAYLIGHT
BEGIN:STANDARD
TZOFFSETFROM:-0400
TZOFFSETTO:-0500
TZNAME:EST
DTSTART:20231105T060000
END:STANDARD
BEGIN:DAYLIGHT
TZOFFSETFROM:-0500
TZOFFSETTO:-0400
TZNAME:EDT
DTSTART:20240310T070000
END:DAYLIGHT
BEGIN:STANDARD
TZOFFSETFROM:-0400
TZOFFSETTO:-0500
TZNAME:EST
DTSTART:20241103T060000
END:STANDARD
BEGIN:DAYLIGHT
TZOFFSETFROM:-0500
TZOFFSETTO:-0400
TZNAME:EDT
DTSTART:20250309T070000
END:DAYLIGHT
BEGIN:STANDARD
TZOFFSETFROM:-0400
TZOFFSETTO:-0500
TZNAME:EST
DTSTART:20251102T060000
END:STANDARD
END:VTIMEZONE
BEGIN:VEVENT
DTSTART;TZID=America/New_York:20241209T190000
DTEND;TZID=America/New_York:20241209T203000
DTSTAMP:20260419T132352
CREATED:20240831T153310Z
LAST-MODIFIED:20241209T144410Z
UID:10001930-1733770800-1733776200@www.sarasotaaudubon.org
SUMMARY:Monthly Meeting - Scott Harris
DESCRIPTION:Scott Harris – reports on his big year raptor photography quest across 34 states. \nRegistration is required for this event. Please click here to register. \n 
URL:https://www.sarasotaaudubon.org/events/dec-9-monthly-meeting-scott-harris/
CATEGORIES:Monthly Meeting
END:VEVENT
END:VCALENDAR