BEGIN:VCALENDAR
VERSION:2.0
PRODID:-//Sarasota Audubon | Sarasota, Florida - ECPv6.15.20//NONSGML v1.0//EN
CALSCALE:GREGORIAN
METHOD:PUBLISH
X-ORIGINAL-URL:https://www.sarasotaaudubon.org
X-WR-CALDESC:Events for Sarasota Audubon | Sarasota, Florida
REFRESH-INTERVAL;VALUE=DURATION:PT1H
X-Robots-Tag:noindex
X-PUBLISHED-TTL:PT1H
BEGIN:VTIMEZONE
TZID:America/New_York
BEGIN:DAYLIGHT
TZOFFSETFROM:-0500
TZOFFSETTO:-0400
TZNAME:EDT
DTSTART:20230312T070000
END:DAYLIGHT
BEGIN:STANDARD
TZOFFSETFROM:-0400
TZOFFSETTO:-0500
TZNAME:EST
DTSTART:20231105T060000
END:STANDARD
BEGIN:DAYLIGHT
TZOFFSETFROM:-0500
TZOFFSETTO:-0400
TZNAME:EDT
DTSTART:20240310T070000
END:DAYLIGHT
BEGIN:STANDARD
TZOFFSETFROM:-0400
TZOFFSETTO:-0500
TZNAME:EST
DTSTART:20241103T060000
END:STANDARD
BEGIN:DAYLIGHT
TZOFFSETFROM:-0500
TZOFFSETTO:-0400
TZNAME:EDT
DTSTART:20250309T070000
END:DAYLIGHT
BEGIN:STANDARD
TZOFFSETFROM:-0400
TZOFFSETTO:-0500
TZNAME:EST
DTSTART:20251102T060000
END:STANDARD
BEGIN:DAYLIGHT
TZOFFSETFROM:-0500
TZOFFSETTO:-0400
TZNAME:EDT
DTSTART:20260308T070000
END:DAYLIGHT
BEGIN:STANDARD
TZOFFSETFROM:-0400
TZOFFSETTO:-0500
TZNAME:EST
DTSTART:20261101T060000
END:STANDARD
BEGIN:DAYLIGHT
TZOFFSETFROM:-0500
TZOFFSETTO:-0400
TZNAME:EDT
DTSTART:20270314T070000
END:DAYLIGHT
BEGIN:STANDARD
TZOFFSETFROM:-0400
TZOFFSETTO:-0500
TZNAME:EST
DTSTART:20271107T060000
END:STANDARD
END:VTIMEZONE
BEGIN:VEVENT
DTSTART;TZID=America/New_York:20260420T080000
DTEND;TZID=America/New_York:20260420T100000
DTSTAMP:20260424T002006
CREATED:20250716T155356Z
LAST-MODIFIED:20260120T225603Z
UID:10002737-1776672000-1776679200@www.sarasotaaudubon.org
SUMMARY:Glebe Park on Siesta Key with John Groskopf
DESCRIPTION:“Looking for migrants and flyovers. Less than one quarter mile of shaded walk. Restrooms.”
URL:https://www.sarasotaaudubon.org/events/glebe-park-on-siesta-key-with-john-groskopf-2/
LOCATION:Glebe Park\, 1000 Glebe Lane\, Sarasota\, FL\, 34242\, United States
CATEGORIES:Guided Walks
END:VEVENT
BEGIN:VEVENT
DTSTART;TZID=America/New_York:20260404T173000
DTEND;TZID=America/New_York:20260404T183000
DTSTAMP:20260424T002006
CREATED:20260107T203724Z
LAST-MODIFIED:20260319T185702Z
UID:10002847-1775323800-1775327400@www.sarasotaaudubon.org
SUMMARY:Birding 305: Warblers & Similar Species
DESCRIPTION:Birding 305 Warblers and Similar Species ID with John Groskopf\n\n\nSaturday\, April 4\n5:30 – 6:30 p.m.\n\nAdvanced Bird ID focused on Warblers and similar species with John Groskopf. In this comprehensive classroom course you will discover the key identification markers for various warblers and similar species.\nMeet inside the Nature Center at 5:30 p.m. on Saturday April 4 for this classrom presentation.\n\nRegistration Required
URL:https://www.sarasotaaudubon.org/events/birding-305-warblers-similar-species/
LOCATION:Sarasota Audubon Nature Center\, 999 Center Road\, Sarasota\, FL\, 34240
CATEGORIES:Class Requiring Registration & Fee,Classes at the Nature Center
GEO:27.3253554;-82.4319132
X-APPLE-STRUCTURED-LOCATION;VALUE=URI;X-ADDRESS=Sarasota Audubon Nature Center 999 Center Road Sarasota FL 34240;X-APPLE-RADIUS=500;X-TITLE=999 Center Road:geo:-82.4319132,27.3253554
END:VEVENT
BEGIN:VEVENT
DTSTART;TZID=America/New_York:20260214T064500
DTEND;TZID=America/New_York:20260214T080000
DTSTAMP:20260424T002006
CREATED:20260203T151759Z
LAST-MODIFIED:20260203T151759Z
UID:10002846-1771051500-1771056000@www.sarasotaaudubon.org
SUMMARY:Birding 308: Gulls & Terns
DESCRIPTION:Gulls and Terns ID with John Groskopf\n\n\nFriday\, Feb. 13\, 5:30-6:30 p.m.\nSaturday\, Feb. 14\, 6:45-8 a.m.\n\nAdvanced Guide to Bird Identification focused on Gulls and Terns with John Groskopf.\nThis comprehensive course covers essential identification checks for Gulls and Terns. Click link below to register. This is a two day intensive consisting of the following:\nIn Class: Friday\, Feb. 13 at the Sarasota Audubon Nature Center at 5:30 – 6:30 p.m.\nField Trip: Saturday\, Feb. 14 at Siesta Key Beach at 6:45 – 8 a.m.\n\nRegistration Required
URL:https://www.sarasotaaudubon.org/events/birding-308-gulls-terns-2/
CATEGORIES:Classes,Trips Requiring Registration and Fee
END:VEVENT
BEGIN:VEVENT
DTSTART;TZID=America/New_York:20260213T173000
DTEND;TZID=America/New_York:20260213T183000
DTSTAMP:20260424T002006
CREATED:20260107T203442Z
LAST-MODIFIED:20260203T152954Z
UID:10002845-1771003800-1771007400@www.sarasotaaudubon.org
SUMMARY:Birding 308: Gulls & Terns
DESCRIPTION:Gulls and Terns ID with John Groskopf\n\n\nFriday\, Feb. 13\, 5:30-6:30 p.m.\nSaturday\, Feb. 14\, 6:45-8 a.m.\n\nAdvanced Guide to Bird Identification focused on Gulls and Terns with John Groskopf.\nThis comprehensive course covers essential identification checks for Gulls and Terns. Click link below to register. This is a two day intensive consisting of the following:\nIn Class: Friday\, Feb. 13 at the Sarasota Audubon Nature Center at 5:30 – 6:30 p.m.\nField Trip: Saturday\, Feb. 14 at Siesta Key Beach at 6:45 – 8 a.m.\n\nRegistration Required
URL:https://www.sarasotaaudubon.org/events/birding-308-gulls-terns/
CATEGORIES:Class Requiring Registration & Fee,Trips Requiring Registration and Fee
END:VEVENT
BEGIN:VEVENT
DTSTART;TZID=America/New_York:20250503T090000
DTEND;TZID=America/New_York:20250503T110000
DTSTAMP:20260424T002006
CREATED:20240831T175343Z
LAST-MODIFIED:20240901T173635Z
UID:10002092-1746262800-1746270000@www.sarasotaaudubon.org
SUMMARY:Guided Walks - Pinecraft Park
DESCRIPTION:Visit Pinecraft Park with John Groskopf (941-726-8816) as you look for migrants\, flyovers\, and water birds. Less than one mile of shaded walk. \nRestrooms are available.
URL:https://www.sarasotaaudubon.org/events/guided-walks-pinecraft-park-2/
LOCATION:Pinecraft Park\, 1420 Gilbert Ave\, Sarasota\, FL\, 34239\, United States
CATEGORIES:Guided Walks
GEO:27.3207325;-82.5037186
X-APPLE-STRUCTURED-LOCATION;VALUE=URI;X-ADDRESS=Pinecraft Park 1420 Gilbert Ave Sarasota FL 34239 United States;X-APPLE-RADIUS=500;X-TITLE=1420 Gilbert Ave:geo:-82.5037186,27.3207325
END:VEVENT
BEGIN:VEVENT
DTSTART;TZID=America/New_York:20250428T080000
DTEND;TZID=America/New_York:20250428T100000
DTSTAMP:20260424T002006
CREATED:20240831T174035Z
LAST-MODIFIED:20240813T174500Z
UID:10002091-1745827200-1745834400@www.sarasotaaudubon.org
SUMMARY:Guided Walks - Bay Street Park
DESCRIPTION:Join John Groskopf (941-726-8816) at Bay Street Park to look for migrants\, waders\, and forest birds. 1 mile walk\, mainly shade. Restrooms are available.
URL:https://www.sarasotaaudubon.org/events/guided-walks-bay-street-park/
LOCATION:Bay Street Park\, 300 Bay Street\, Osprey\, FL\, 34229\, United States
CATEGORIES:Guided Walks
END:VEVENT
BEGIN:VEVENT
DTSTART;TZID=America/New_York:20250421T080000
DTEND;TZID=America/New_York:20250421T100000
DTSTAMP:20260424T002006
CREATED:20240831T172949Z
LAST-MODIFIED:20240813T173405Z
UID:10002089-1745222400-1745229600@www.sarasotaaudubon.org
SUMMARY:Guided Walks - Glebe Park
DESCRIPTION:Walk with John Groskopf through Glebe Park on Siesta Key looking for migrants and flyovers; ¼ mile walk\, mainly shade. \nRestrooms are available
URL:https://www.sarasotaaudubon.org/events/guided-walks-glebe-park/
LOCATION:Glebe Park\, 1000 Glebe Lane\, Sarasota\, FL\, 34242\, United States
CATEGORIES:Guided Walks
END:VEVENT
BEGIN:VEVENT
DTSTART;TZID=America/New_York:20241027T080000
DTEND;TZID=America/New_York:20241027T100000
DTSTAMP:20260424T002006
CREATED:20240831T170154Z
LAST-MODIFIED:20240810T180443Z
UID:10002063-1730016000-1730023200@www.sarasotaaudubon.org
SUMMARY:Guided Walks - Red Bug Slough
DESCRIPTION:Meet John Groskopf at Red Bug Slough in Sarasota for a 2 mile walk looking for migrants\, forest birds\, waders\, flyovers\, and ducks. The walk is about half shade and half sun.
URL:https://www.sarasotaaudubon.org/events/guided-walks-red-bug-slough/
LOCATION:Red Bug Slough\, 5200 Beneva Rd\, Sarasota\, FL\, 34231\, United States
CATEGORIES:Guided Walks
GEO:27.278366;-82.501983
X-APPLE-STRUCTURED-LOCATION;VALUE=URI;X-ADDRESS=Red Bug Slough 5200 Beneva Rd Sarasota FL 34231 United States;X-APPLE-RADIUS=500;X-TITLE=5200 Beneva Rd:geo:-82.501983,27.278366
END:VEVENT
BEGIN:VEVENT
DTSTART;TZID=America/New_York:20241004T090000
DTEND;TZID=America/New_York:20241004T110000
DTSTAMP:20260424T002006
CREATED:20240831T175050Z
LAST-MODIFIED:20240813T175207Z
UID:10002062-1728032400-1728039600@www.sarasotaaudubon.org
SUMMARY:Guided Walks - Pinecraft Park
DESCRIPTION:Meet John Groskopf at Pinecraft Park for a less than 1 mile shaded walk looking for migrants\, flyovers\, and water birds. Restrooms are available.
URL:https://www.sarasotaaudubon.org/events/guided-walks-pinecraft-park/
LOCATION:Pinecraft Park\, 1420 Gilbert Ave\, Sarasota\, FL\, 34239\, United States
CATEGORIES:Guided Walks
GEO:27.3207325;-82.5037186
X-APPLE-STRUCTURED-LOCATION;VALUE=URI;X-ADDRESS=Pinecraft Park 1420 Gilbert Ave Sarasota FL 34239 United States;X-APPLE-RADIUS=500;X-TITLE=1420 Gilbert Ave:geo:-82.5037186,27.3207325
END:VEVENT
END:VCALENDAR